BEGIN:VCALENDAR
VERSION:2.0
PRODID:-//Wetaskiwin Mall Shopping Center - ECPv6.6.4.2//NONSGML v1.0//EN
CALSCALE:GREGORIAN
METHOD:PUBLISH
X-ORIGINAL-URL:https://wetaskiwinmall.com
X-WR-CALDESC:Events for Wetaskiwin Mall Shopping Center
REFRESH-INTERVAL;VALUE=DURATION:PT1H
X-Robots-Tag:noindex
X-PUBLISHED-TTL:PT1H
BEGIN:VTIMEZONE
TZID:America/Edmonton
BEGIN:DAYLIGHT
TZOFFSETFROM:-0700
TZOFFSETTO:-0600
TZNAME:MDT
DTSTART:20240310T090000
END:DAYLIGHT
BEGIN:STANDARD
TZOFFSETFROM:-0600
TZOFFSETTO:-0700
TZNAME:MST
DTSTART:20241103T080000
END:STANDARD
END:VTIMEZONE
BEGIN:VEVENT
DTSTART;TZID=America/Edmonton:20240517T110000
DTEND;TZID=America/Edmonton:20240517T130000
DTSTAMP:20260422T055810
CREATED:20240514T174938Z
LAST-MODIFIED:20240514T175450Z
UID:6321-1715943600-1715950800@wetaskiwinmall.com
SUMMARY:Walking with grief at Jubilee Park
DESCRIPTION:Step into Solace: Embracing Grief. \nGrief transcends the mind and heart—it touches every fiber of our being. \nEmbark on a gentle journey with compassionate guides\, as we stroll through healing paths and gather in solidarity. Following our walk\, let’s share comforting conversations over coffee. \nUpcoming sessions on May 17\, 31 and June 14\, 28 \nStarting at 11 am\, Jubilee Park\,\n 50 Ave & 54 St\, Wetaskiwin.
URL:https://wetaskiwinmall.com/sale-event/walking-with-grief-at-jubilee-park/
ATTACH;FMTTYPE=image/png:https://wetaskiwinmall.com/wp-content/uploads/2024/05/Walking-with-Grief-Poster.png
END:VEVENT
END:VCALENDAR